BEGIN:VCALENDAR
VERSION:2.0
PRODID:-//jEvents 2.0 for Joomla//EN
CALSCALE:GREGORIAN
METHOD:PUBLISH
BEGIN:VTIMEZONE
TZID:Europe/Berlin
END:VTIMEZONE
BEGIN:VEVENT
UID:2d3a9340a50ad23e27ca792e0dddd312
CATEGORIES:MU18, FU18
CREATED:20231227T130539
SUMMARY:UWV  Kienbaum 
LOCATION:Kienbaum
DESCRIPTION;ENCODING=QUOTED-PRINTABLE:\n\nHJV Beteiligung?\n
DTSTAMP:20260420T082819Z
DTSTART;TZID=Europe/Berlin;VALUE=DATE:20240609
DTEND;TZID=Europe/Berlin;VALUE=DATE:20240617
SEQUENCE:0
TRANSP:OPAQUE
END:VEVENT
END:VCALENDAR