BEGIN:VCALENDAR
VERSION:2.0
PRODID:-//jEvents 2.0 for Joomla//EN
CALSCALE:GREGORIAN
METHOD:PUBLISH
BEGIN:VTIMEZONE
TZID:Europe/Berlin
END:VTIMEZONE
BEGIN:VEVENT
UID:4ce987c809b57a4bdaaab7b2709481e0
CATEGORIES:Wettkampfsport, Männer, Frauen
CREATED:20231110T133453
SUMMARY:Deutsche-Einzelmeisterschaft der Männer & Frauen 2024
LOCATION:SCHARRena Stuttgart\, Fritz-Walter-Weg 5\,  70372 Stuttgart-Bad Cannstatt
DESCRIPTION;ENCODING=QUOTED-PRINTABLE:<p>Ab Freitag, den 25.10.2024 Akkreditierung und Waage</p>
CONTACT:DJB
DTSTAMP:20260422T115734Z
DTSTART;TZID=Europe/Berlin;VALUE=DATE:20241026
DTEND;TZID=Europe/Berlin;VALUE=DATE:20241028
SEQUENCE:0
TRANSP:OPAQUE
END:VEVENT
END:VCALENDAR