BEGIN:VCALENDAR
VERSION:2.0
PRODID:-//jEvents 2.0 for Joomla//EN
CALSCALE:GREGORIAN
METHOD:PUBLISH
BEGIN:VTIMEZONE
TZID:Europe/Berlin
END:VTIMEZONE
BEGIN:VEVENT
UID:29539d8239e1486d3925709358277d0a
CATEGORIES:Wettkampfsport, MU15, FU15
CREATED:20231110T132819
SUMMARY:SWDEM U15
LOCATION:Walderfingia\, Bungertstraße 34\, 66798 Wallerfangen
DESCRIPTION;ENCODING=QUOTED-PRINTABLE:<p>SWDEM U15</p>
CONTACT:Karolin Schmitz
DTSTAMP:20260420T070357Z
DTSTART;TZID=Europe/Berlin;VALUE=DATE:20240630
DTEND;TZID=Europe/Berlin;VALUE=DATE:20240701
SEQUENCE:0
TRANSP:OPAQUE
END:VEVENT
END:VCALENDAR