BEGIN:VCALENDAR
VERSION:2.0
PRODID:-//jEvents 2.0 for Joomla//EN
CALSCALE:GREGORIAN
METHOD:PUBLISH
BEGIN:VTIMEZONE
TZID:Europe/Berlin
END:VTIMEZONE
BEGIN:VEVENT
UID:37270794e6f2986738fc491e1dda53eb
CATEGORIES:Wettkampfsport, MU13, MU15, FU13, FU15
CREATED:20231110T132732
SUMMARY:HEM U15/SiT U13
LOCATION:Eichenzell
DESCRIPTION;ENCODING=QUOTED-PRINTABLE:<div class="viovendi-widget viovendi-booking-widget" data-viovendi-locale="
 de-de" data-viovendi-organizer="5182" data-viovendi-widget-config-name="boo
 king-5182-63851" data-viovendi-event="160175">&nbsp;</div><script src="http
 s://doo.net/viovendi-embed.js" type="text/javascript" data-viovendi-version
 ="1"></script><div class="viovendi-widget viovendi-booking-widget" data-vio
 vendi-locale="de-de" data-viovendi-organizer="5182" data-viovendi-widget-co
 nfig-name="booking-5182-63853" data-viovendi-event="160176">&nbsp;</div><sc
 ript src="https://doo.net/viovendi-embed.js" type="text/javascript" data-vi
 ovendi-version="1"></script>
CONTACT:HJV Jugendleitung 
DTSTAMP:20260424T113831Z
DTSTART;TZID=Europe/Berlin;VALUE=DATE:20240608
DTEND;TZID=Europe/Berlin;VALUE=DATE:20240609
SEQUENCE:0
TRANSP:OPAQUE
END:VEVENT
END:VCALENDAR