BEGIN:VCALENDAR
VERSION:2.0
PRODID:-//jEvents 2.0 for Joomla//EN
CALSCALE:GREGORIAN
METHOD:PUBLISH
BEGIN:VTIMEZONE
TZID:Europe/Berlin
END:VTIMEZONE
BEGIN:VEVENT
UID:14cf0679e729004014060dd53de28ca5
CATEGORIES:Breitensport, Lehrgänge
CREATED:20260316T090849
SUMMARY:Lehrgang - Judobezogene Selbstverteidigung im HJV 1/2026
LOCATION:Darmstadt
DESCRIPTION;ENCODING=QUOTED-PRINTABLE:\n\n&nbsp;\n\n\nAnmeldung und Ausschreibung\n\n\nBei Fragen zur Ausschreibu
 ng und Veranstaltung an&nbsp;Eduard Van Thurenhout wenden:\n\n\nDiese E-Mai
 l-Adresse ist vor Spambots geschützt! Zur Anzeige muss JavaScript eingescha
 ltet sein!
				document.getElementById('cloak6281693bf569fb5eb2067b7acce499
 ec').innerHTML = '';
				var prefix = '&#109;a' + 'i&#108;' + '&#116;o';
		
 		var path = 'hr' + 'ef' + '=';
				var addy6281693bf569fb5eb2067b7acce499e
 c = 'v&#97;nth&#117;r&#101;nh&#111;&#117;t' + '&#64;';
				addy6281693bf569
 fb5eb2067b7acce499ec = addy6281693bf569fb5eb2067b7acce499ec + 'h&#101;ss&#1
 01;nj&#117;d&#111;' + '&#46;' + 'd&#101;&gt;';
				var addy_text6281693bf56
 9fb5eb2067b7acce499ec = 'v&#97;nth&#117;r&#101;nh&#111;&#117;t@h&#101;ss&#1
 01;nj&#117;d&#111;.d';document.getElementById('cloak6281693bf569fb5eb2067b7
 acce499ec').innerHTML += ''+addy_text6281693bf569fb5eb2067b7acce499ec+'';
	
 	e\n\n\n&nbsp;\n\n\n&nbsp;\n
CONTACT:Eduard Van Thurenhout
DTSTAMP:20260425T164520Z
DTSTART;TZID=Europe/Berlin;VALUE=DATE:20260329
DTEND;TZID=Europe/Berlin;VALUE=DATE:20260330
SEQUENCE:0
TRANSP:OPAQUE
END:VEVENT
END:VCALENDAR