BEGIN:VCALENDAR
VERSION:2.0
PRODID:-//jEvents 2.0 for Joomla//EN
CALSCALE:GREGORIAN
METHOD:PUBLISH
BEGIN:VTIMEZONE
TZID:Europe/Berlin
END:VTIMEZONE
BEGIN:VEVENT
UID:0d39457cee77138ebe6b380af948a756
CATEGORIES:MU11, MU13, MU15, FU11, FU13, FU15
CREATED:20260309T154834
SUMMARY:Randori-Lehrgang Bezirk-Nord
LOCATION:Kassel
DESCRIPTION;ENCODING=QUOTED-PRINTABLE:<p>Randori-Lehrgang Bezirk-Nord</p><p><a href="images/2026/Ausschreibungen/
 Randori_Lehrgang_21.03.2026.pdf" target="_blank">Ausschreibung</a></p><p>21
 .03.2026<br />08:30-09:00 Uhr: Anreise und Anmeldung<br />09:00-10:30 Uhr: 
 Stand/Boden-Randori 10:30-11:30 Uhr: Pause 11:30-13:00 Uhr: Stand/Boden-Ran
 dori<br />Leitung: Honorar-Trainer Ivan Aleshin</p><p>&nbsp;</p><p>Meldung:
 &nbsp;Vereinsweise bis spätestens 16.03.2026 per E-Mail an: <span id="cloak
 426eddf94a89e3b4af915f14632a889d">Diese E-Mail-Adresse ist vor Spambots ges
 chützt! Zur Anzeige muss JavaScript eingeschaltet sein!</span><script type=
 'text/javascript'>
				document.getElementById('cloak426eddf94a89e3b4af915f
 14632a889d').innerHTML = '';
				var prefix = '&#109;a' + 'i&#108;' + '&#11
 6;o';
				var path = 'hr' + 'ef' + '=';
				var addy426eddf94a89e3b4af915f1
 4632a889d = '&#105;v&#97;n.&#97;l&#101;sh&#105;n' + '&#64;';
				addy426edd
 f94a89e3b4af915f14632a889d = addy426eddf94a89e3b4af915f14632a889d + 'k&#111
 ;ll&#101;g&#105;&#117;m' + '&#46;' + 'g&#111;&#101;-ks' + '&#46;' + 'd&#101
 ;';
				var addy_text426eddf94a89e3b4af915f14632a889d = '&#105;v&#97;n.&#97
 ;l&#101;sh&#105;n' + '&#64;' + 'k&#111;ll&#101;g&#105;&#117;m' + '&#46;' + 
 'g&#111;&#101;-ks' + '&#46;' + 'd&#101;';document.getElementById('cloak426e
 ddf94a89e3b4af915f14632a889d').innerHTML += '<a ' + path + '\'' + prefix + 
 ':' + addy426eddf94a89e3b4af915f14632a889d + '\'>'+addy_text426eddf94a89e3b
 4af915f14632a889d+'<\/a>';
		</script> unter Angabe von: Name, Vorname, Jah
 rgang, Verein, Graduierung, aktuelle Gewichtsklasse</p>
CONTACT:PSV Grün-Weiß Kassel
DTSTAMP:20260421T214802Z
DTSTART;TZID=Europe/Berlin;VALUE=DATE:20260321
DTEND;TZID=Europe/Berlin;VALUE=DATE:20260322
SEQUENCE:0
TRANSP:OPAQUE
END:VEVENT
END:VCALENDAR