BEGIN:VCALENDAR
VERSION:2.0
PRODID:-//jEvents 2.0 for Joomla//EN
CALSCALE:GREGORIAN
METHOD:PUBLISH
BEGIN:VTIMEZONE
TZID:Europe/Berlin
END:VTIMEZONE
BEGIN:VEVENT
UID:b03ae0a20f729e890e40131280c58e9d
CATEGORIES:Prüfungswesen
CREATED:20251121T130533
SUMMARY:Prüfungswesen: Dan-Vorbereitung Lehrgang
LOCATION:Anton-Dey-Halle\, Anton-Dey-Straße 60\, 63165 Mühlheim
DESCRIPTION;ENCODING=QUOTED-PRINTABLE:\n\nWeitere Informationen und Anmeldung\nDafür halte bitte bereit: Das pers
 önliche DokuMe-Passwort\n
DTSTAMP:20260425T134117Z
DTSTART;TZID=Europe/Berlin;VALUE=DATE:20260307
DTEND;TZID=Europe/Berlin;VALUE=DATE:20260308
SEQUENCE:0
TRANSP:OPAQUE
END:VEVENT
END:VCALENDAR