BEGIN:VCALENDAR
VERSION:2.0
PRODID:-//jEvents 2.0 for Joomla//EN
CALSCALE:GREGORIAN
METHOD:PUBLISH
BEGIN:VTIMEZONE
TZID:Europe/Berlin
END:VTIMEZONE
BEGIN:VEVENT
UID:bc44725a0025fea67ebdd88295be1a60
CATEGORIES:Sonstige
CREATED:20260106T143953
SUMMARY:Bezirk Ost: Einladung Bezirksversammlung
LOCATION:61137 Schöneck-Kilianstädten\, Bleichstraße 9a (Erich-Simdorn-Halle).
DESCRIPTION;ENCODING=QUOTED-PRINTABLE:\n\nBeginn: 15.00 Uhr\n
CONTACT:Julian Jungermann
DTSTAMP:20260421T104715Z
DTSTART;TZID=Europe/Berlin;VALUE=DATE:20260314
DTEND;TZID=Europe/Berlin;VALUE=DATE:20260315
SEQUENCE:0
TRANSP:OPAQUE
END:VEVENT
END:VCALENDAR