BEGIN:VCALENDAR
VERSION:2.0
PRODID:-//jEvents 2.0 for Joomla//EN
CALSCALE:GREGORIAN
METHOD:PUBLISH
BEGIN:VTIMEZONE
TZID:Europe/Berlin
END:VTIMEZONE
BEGIN:VEVENT
UID:cac69d95de1b284b538b4f61596e4c69
CATEGORIES:MU11, MU13, MU15, MU18, FU11, FU13, FU15, FU18
CREATED:20260106T143823
SUMMARY:Bezirk Ost:  1. offener Technik und Randori Lehrgang  U11 - U18
LOCATION:Erich-Simdorn-Halle Bleichstraße 9a\, 61137 Schöneck-Kilianstädten
DESCRIPTION;ENCODING=QUOTED-PRINTABLE:\n\nAblauf:&nbsp;\n 13:00-15:00 Uhr (1. Einheit)\n15:00-15:30 Uhr (Pause + 
 freie Sportgestaltung)\n15:30-17:30 Uhr (2. Einheit)\n17:30-17:45 Uhr (Refl
 exion d. Lehrgangs)\n
CONTACT:Julian Jungermann
DTSTAMP:20260420T102412Z
DTSTART;TZID=Europe/Berlin;VALUE=DATE:20260314
DTEND;TZID=Europe/Berlin;VALUE=DATE:20260315
SEQUENCE:0
TRANSP:OPAQUE
END:VEVENT
END:VCALENDAR