BEGIN:VCALENDAR
VERSION:2.0
PRODID:-//jEvents 2.0 for Joomla//EN
CALSCALE:GREGORIAN
METHOD:PUBLISH
BEGIN:VTIMEZONE
TZID:Europe/Berlin
END:VTIMEZONE
BEGIN:VEVENT
UID:c45e2fb05d64d1b648b4efb96f01981a
CATEGORIES:Wettkampfsport, Männer
CREATED:20251230T133617
SUMMARY:Oberliga 1
LOCATION:N. N.
DESCRIPTION;ENCODING=QUOTED-PRINTABLE:\n\nOberliga 1. Kampftag\n
CONTACT:Ralf Bacher
DTSTAMP:20260420T160912Z
DTSTART;TZID=Europe/Berlin;VALUE=DATE:20260321
DTEND;TZID=Europe/Berlin;VALUE=DATE:20260322
SEQUENCE:0
TRANSP:OPAQUE
END:VEVENT
END:VCALENDAR