BEGIN:VCALENDAR
VERSION:2.0
PRODID:-//jEvents 2.0 for Joomla//EN
CALSCALE:GREGORIAN
METHOD:PUBLISH
BEGIN:VTIMEZONE
TZID:Europe/Berlin
END:VTIMEZONE
BEGIN:VEVENT
UID:b52920b74631f354b4950310e07baa0d
CATEGORIES:Breitensport
CREATED:20251121T132125
SUMMARY:Breitensport: Ü50 Lehrgang
LOCATION:Krofdorf-Gleiberg
DESCRIPTION;ENCODING=QUOTED-PRINTABLE:\n\nWeitere Information und Anmeldung\n
DTSTAMP:20260421T103254Z
DTSTART;TZID=Europe/Berlin;VALUE=DATE:20260329
DTEND;TZID=Europe/Berlin;VALUE=DATE:20260330
SEQUENCE:0
TRANSP:OPAQUE
END:VEVENT
END:VCALENDAR