BEGIN:VCALENDAR
VERSION:2.0
PRODID:-//jEvents 2.0 for Joomla//EN
CALSCALE:GREGORIAN
METHOD:PUBLISH
BEGIN:VTIMEZONE
TZID:Europe/Berlin
END:VTIMEZONE
BEGIN:VEVENT
UID:73f2b6ef202a54d77cc48b34f432ee7f
CATEGORIES:MU10, MU12, MU15, FU10, FU12, FU15
CREATED:20251108T092947
SUMMARY:Bezirkskämpfe Nord
LOCATION:Sporthalle Brüder-Grimm-Straße Brüder-Grimm-Str. 14\, 34246 Vellmar
DESCRIPTION;ENCODING=QUOTED-PRINTABLE:<p>Waage:<br />U10/U12/U15 weiblich: 10:00 bis 10:15 Uhr<br />U10 männlich:
  11:30 bis 11:45 Uhr<br />U12 männlich: 12:30 bis 12:45 Uhr<br />U15 männli
 ch: 14:15 bis 14:30 Uhr</p>
DTSTAMP:20260421T133127Z
DTSTART;TZID=Europe/Berlin;VALUE=DATE:20251115
DTEND;TZID=Europe/Berlin;VALUE=DATE:20251116
SEQUENCE:0
TRANSP:OPAQUE
END:VEVENT
END:VCALENDAR