BEGIN:VCALENDAR
VERSION:2.0
PRODID:-//jEvents 2.0 for Joomla//EN
CALSCALE:GREGORIAN
METHOD:PUBLISH
BEGIN:VTIMEZONE
TZID:Europe/Berlin
END:VTIMEZONE
BEGIN:VEVENT
UID:384ce9bf79f3b675a8571199c495e35a
CATEGORIES:MU15, MU18, FU15, FU18
CREATED:20251023T174612
SUMMARY:Offene SWD VereinsMM U15 Mixed und U18
LOCATION:Judomaxx Speyer\, Butenschönstraße 8\, 67346 Speyer
DESCRIPTION;ENCODING=QUOTED-PRINTABLE:<p>Offene Südwestdeutsche&nbsp;Vereinsmannschaftsmeisterschaft U15 Mixed Te
 am 2025<br />Waage Männlich U15: 10:00– 10:30 Uhr anschließend Wettkampfbeg
 inn<br />Waage Weiblich U15: 10:00 – 10:30 Uhr anschließend Wettkampfbeginn
 </p><p>Offene Südwestdeutsche Vereinsmannschaftsmeisterschaft U18 2025<br /
 >Waage Männer U18: 13:00– 13:30 Uhr anschließend Wettkampfbeginn<br />Waage
  Frauen U18: 13:30 – 14:00 Uhr anschließend Wettkampfbeginn</p><p>Meldeschl
 uss:<br />Mittwoch, den 05.11.25 Nachmeldungen sind ausgeschlossen!</p>
CONTACT:Karolin Schmitz, DJB Gruppenkoordinatorin Südwest
DTSTAMP:20260421T215222Z
DTSTART;TZID=Europe/Berlin;VALUE=DATE:20251115
DTEND;TZID=Europe/Berlin;VALUE=DATE:20251116
SEQUENCE:0
TRANSP:OPAQUE
END:VEVENT
END:VCALENDAR