BEGIN:VCALENDAR
VERSION:2.0
PRODID:-//jEvents 2.0 for Joomla//EN
CALSCALE:GREGORIAN
METHOD:PUBLISH
BEGIN:VTIMEZONE
TZID:Europe/Berlin
END:VTIMEZONE
BEGIN:VEVENT
UID:a6efe8b725323d81cd3b75f0b6680184
CATEGORIES:Breitensport, Kata
CREATED:20250821T193119
SUMMARY:HJV Kata Kader Training
LOCATION:Dojo der TSG Frankfurt Nordwest\, Weißkirchener Weg 12\, 60439 Frankfurt am
  Main 
DESCRIPTION;ENCODING=QUOTED-PRINTABLE:<div class="viovendi-widget viovendi-booking-widget" data-viovendi-locale="
 en-us" data-viovendi-widget-config-name="booking-5182-90672" data-viovendi-
 event="197050" data-viovendi-organizer="5182">&nbsp;</div><script src="http
 s://doo.net/viovendi-embed.js" type="text/javascript" data-viovendi-version
 ="1"></script>
CONTACT:Eduard van Thurenhout
DTSTAMP:20260419T154422Z
DTSTART;TZID=Europe/Berlin;VALUE=DATE:20250824
DTEND;TZID=Europe/Berlin;VALUE=DATE:20250825
SEQUENCE:0
TRANSP:OPAQUE
END:VEVENT
END:VCALENDAR