BEGIN:VCALENDAR
VERSION:2.0
PRODID:-//jEvents 2.0 for Joomla//EN
CALSCALE:GREGORIAN
METHOD:PUBLISH
BEGIN:VTIMEZONE
TZID:Europe/Berlin
END:VTIMEZONE
BEGIN:VEVENT
UID:ebdbd95b9233ce481c7e87b0f413fc39
CATEGORIES:Ausbildungswesen
CREATED:20250711T150411
SUMMARY:Trainer C-Ausbildung 2025-2 Kick-Off
LOCATION:Kirschberg 27\, 64347 Griesheim
DESCRIPTION;ENCODING=QUOTED-PRINTABLE:&nbsp;
CONTACT:Ervin Susnik
DTSTAMP:20260421T121907Z
DTSTART;TZID=Europe/Berlin;VALUE=DATE:20250821
DTEND;TZID=Europe/Berlin;VALUE=DATE:20250822
SEQUENCE:0
TRANSP:OPAQUE
END:VEVENT
END:VCALENDAR