BEGIN:VCALENDAR
VERSION:2.0
PRODID:-//jEvents 2.0 for Joomla//EN
CALSCALE:GREGORIAN
METHOD:PUBLISH
BEGIN:VTIMEZONE
TZID:Europe/Berlin
END:VTIMEZONE
BEGIN:VEVENT
UID:ee865abedd6b4137da1678695a078afd
CATEGORIES:Ausbildungswesen
CREATED:20250711T145925
SUMMARY:A-Level Fortbildungen Kumi-Kata
LOCATION:Griesheim
DESCRIPTION;ENCODING=QUOTED-PRINTABLE:&nbsp;
CONTACT:Ervin Susnik
DTSTAMP:20260421T215030Z
DTSTART;TZID=Europe/Berlin;VALUE=DATE:20251130
DTEND;TZID=Europe/Berlin;VALUE=DATE:20251201
SEQUENCE:0
TRANSP:OPAQUE
END:VEVENT
END:VCALENDAR