BEGIN:VCALENDAR
VERSION:2.0
PRODID:-//jEvents 2.0 for Joomla//EN
CALSCALE:GREGORIAN
METHOD:PUBLISH
BEGIN:VTIMEZONE
TZID:Europe/Berlin
END:VTIMEZONE
BEGIN:VEVENT
UID:2d3f736053add8552ea75c2ea6733de2
CATEGORIES:Ausbildungswesen
CREATED:20250711T145743
SUMMARY:A-Level Fortbildungen Ne waza
LOCATION:Griesheim
DESCRIPTION;ENCODING=QUOTED-PRINTABLE:&nbsp;
CONTACT:Ervin Susnik
DTSTAMP:20260421T164852Z
DTSTART;TZID=Europe/Berlin;VALUE=DATE:20251102
DTEND;TZID=Europe/Berlin;VALUE=DATE:20251103
SEQUENCE:0
TRANSP:OPAQUE
END:VEVENT
END:VCALENDAR