BEGIN:VCALENDAR
VERSION:2.0
PRODID:-//jEvents 2.0 for Joomla//EN
CALSCALE:GREGORIAN
METHOD:PUBLISH
BEGIN:VTIMEZONE
TZID:Europe/Berlin
END:VTIMEZONE
BEGIN:VEVENT
UID:9f7f4a02171697b5678e6a802353dc86
CATEGORIES:Ausbildungswesen
CREATED:20250711T145410
SUMMARY:A-Level Fortbildung Grundkampfkonzeption
LOCATION:Dojo Tamanegi Griesheim\, Kirschberg 27 in 64347 Griesheim Kirschberg 27\, 
 64347 Griesheim
DESCRIPTION;ENCODING=QUOTED-PRINTABLE:<div class="viovendi-widget viovendi-booking-widget" data-viovendi-locale="
 de-de" data-viovendi-widget-config-name="booking-5182-88125" data-viovendi-
 event="193668" data-viovendi-organizer="5182">&nbsp;</div><script src="http
 s://doo.net/viovendi-embed.js" type="text/javascript" data-viovendi-version
 ="1"></script><div class="viovendi-widget viovendi-booking-widget" data-vio
 vendi-locale="de-de" data-viovendi-widget-config-name="booking-5182-88125" 
 data-viovendi-event="193668" data-viovendi-organizer="5182">&nbsp;</div><sc
 ript src="https://doo.net/viovendi-embed.js" type="text/javascript" data-vi
 ovendi-version="1"></script>
CONTACT:Ervin Susnik
DTSTAMP:20260421T180014Z
DTSTART;TZID=Europe/Berlin;VALUE=DATE:20250824
DTEND;TZID=Europe/Berlin;VALUE=DATE:20250825
SEQUENCE:0
TRANSP:OPAQUE
END:VEVENT
END:VCALENDAR