BEGIN:VCALENDAR
VERSION:2.0
PRODID:-//jEvents 2.0 for Joomla//EN
CALSCALE:GREGORIAN
METHOD:PUBLISH
BEGIN:VTIMEZONE
TZID:Europe/Berlin
END:VTIMEZONE
BEGIN:VEVENT
UID:df3933e8ce35e6e53536a1eff34fb8dc
CATEGORIES:Ausbildungswesen
CREATED:20250711T145152
SUMMARY:A-Level Fortbildung Grundkampfkonzeption
LOCATION:Vereinsturnhalle Turn- und Sportgemeinde Nordwest 1898 Frankfurt/M. e.V. We
 ißkirchener Weg 12\, 60439 Frankfurt am Main
DESCRIPTION;ENCODING=QUOTED-PRINTABLE:<div class="viovendi-widget viovendi-booking-widget" data-viovendi-locale="
 de-de" data-viovendi-widget-config-name="booking-5182-88117" data-viovendi-
 event="193663" data-viovendi-organizer="5182">&nbsp;</div><script src="http
 s://doo.net/viovendi-embed.js" type="text/javascript" data-viovendi-version
 ="1"></script>
CONTACT:Ervin Susnik
DTSTAMP:20260421T180019Z
DTSTART;TZID=Europe/Berlin;VALUE=DATE:20250803
DTEND;TZID=Europe/Berlin;VALUE=DATE:20250804
SEQUENCE:0
TRANSP:OPAQUE
END:VEVENT
END:VCALENDAR