BEGIN:VCALENDAR
VERSION:2.0
PRODID:-//jEvents 2.0 for Joomla//EN
CALSCALE:GREGORIAN
METHOD:PUBLISH
BEGIN:VTIMEZONE
TZID:Europe/Berlin
END:VTIMEZONE
BEGIN:VEVENT
UID:b6db9654b6182d67c9b0f0c28f7e302a
CATEGORIES:Männer, MU21, Frauen, FU21
CREATED:20241221T154000
SUMMARY:Technik und Randorilehrgang
LOCATION:Dojo der HTG Bad Homburg\, Niederstedter Weg 2 2\, 61348 Bad Homburg
DESCRIPTION;ENCODING=QUOTED-PRINTABLE:\n\nTechnik und Randorilehrgang\n\n\n1.TE 10:00 - 12:00\n\n\n2.TE 13:00 - 1
 5:00\n\n\nZielgruppe: Wettkampfjudoka der U21 und MF, (ab 16 Jahre)\n\n\nTr
 ainer: Landestrainer\n
CONTACT:HJV Sportwarte
DTSTAMP:20260421T150617Z
DTSTART;TZID=Europe/Berlin;VALUE=DATE:20250501
DTEND;TZID=Europe/Berlin;VALUE=DATE:20250502
SEQUENCE:0
TRANSP:OPAQUE
END:VEVENT
END:VCALENDAR