BEGIN:VCALENDAR
VERSION:2.0
PRODID:-//jEvents 2.0 for Joomla//EN
CALSCALE:GREGORIAN
METHOD:PUBLISH
BEGIN:VTIMEZONE
TZID:Europe/Berlin
END:VTIMEZONE
BEGIN:VEVENT
UID:a2a43c3b0f321a89b665c1f764479bd5
CATEGORIES:Männer, Frauen
CREATED:20240212T172927
SUMMARY:Deutsche-MM der Landesverbände Mixed-Team Männer/Frauen 
LOCATION:Maintal
DESCRIPTION;ENCODING=QUOTED-PRINTABLE:<p>Deutsche-MM der Landesverbände Mixed-Team Männer/Frauen</p>
CONTACT:DJB
DTSTAMP:20260425T205110Z
DTSTART;TZID=Europe/Berlin;VALUE=DATE:20240526
DTEND;TZID=Europe/Berlin;VALUE=DATE:20240527
SEQUENCE:0
TRANSP:OPAQUE
END:VEVENT
END:VCALENDAR