BEGIN:VCALENDAR
VERSION:2.0
PRODID:-//jEvents 2.0 for Joomla//EN
CALSCALE:GREGORIAN
METHOD:PUBLISH
BEGIN:VTIMEZONE
TZID:Europe/Berlin
END:VTIMEZONE
BEGIN:VEVENT
UID:57c95eb9dcef40378acfe6d726d4c480
CATEGORIES:Männer, Frauen
CREATED:20240212T172450
SUMMARY:Deutsche-Pokal-Meisterschaften Männer/Frauen
LOCATION:Maintal
DESCRIPTION;ENCODING=QUOTED-PRINTABLE:\n\nDeutsche-Pokal-Meisterschaften Männer/Frauen\n
CONTACT:DJB
DTSTAMP:20260425T122425Z
DTSTART;TZID=Europe/Berlin;VALUE=DATE:20240525
DTEND;TZID=Europe/Berlin;VALUE=DATE:20240526
SEQUENCE:0
TRANSP:OPAQUE
END:VEVENT
END:VCALENDAR