BEGIN:VCALENDAR
VERSION:2.0
PRODID:-//jEvents 2.0 for Joomla//EN
CALSCALE:GREGORIAN
METHOD:PUBLISH
BEGIN:VTIMEZONE
TZID:Europe/Berlin
END:VTIMEZONE
BEGIN:VEVENT
UID:926cbff3699e0ca326fca04765149608
CATEGORIES:Prüfungswesen
CREATED:20231229T114328
SUMMARY:Dan-Vorbereitungslehrgang
LOCATION:Darmstadt
DESCRIPTION;ENCODING=QUOTED-PRINTABLE:&nbsp;
DTSTAMP:20260422T184513Z
DTSTART;TZID=Europe/Berlin;VALUE=DATE:20240309
DTEND;TZID=Europe/Berlin;VALUE=DATE:20240310
SEQUENCE:0
TRANSP:OPAQUE
END:VEVENT
END:VCALENDAR