BEGIN:VCALENDAR
VERSION:2.0
PRODID:-//jEvents 2.0 for Joomla//EN
CALSCALE:GREGORIAN
METHOD:PUBLISH
BEGIN:VTIMEZONE
TZID:Europe/Berlin
END:VTIMEZONE
BEGIN:VEVENT
UID:6e190b859167ba6c8f86537fd8d938bb
CATEGORIES:FU18, FU21
CREATED:20231227T121359
SUMMARY:ITC Fu18/Fu21 Bad Blankenburg
LOCATION:Bad Blankenburg
DESCRIPTION;ENCODING=QUOTED-PRINTABLE:\n\nITC Fu18/Fu21\nBad Blankenburg\n
DTSTAMP:20260420T161709Z
DTSTART;TZID=Europe/Berlin;VALUE=DATE:20240324
DTEND;TZID=Europe/Berlin;VALUE=DATE:20240327
SEQUENCE:0
TRANSP:OPAQUE
END:VEVENT
END:VCALENDAR