BEGIN:VCALENDAR
VERSION:2.0
PRODID:-//jEvents 2.0 for Joomla//EN
CALSCALE:GREGORIAN
METHOD:PUBLISH
BEGIN:VTIMEZONE
TZID:Europe/Berlin
BEGIN:STANDARD
DTSTART:20211031T020000
RDATE:20220327T030000
TZOFFSETFROM:+0200
TZOFFSETTO:+0100
TZNAME:Europe/Berlin CET
END:STANDARD
BEGIN:STANDARD
DTSTART:20221030T020000
RDATE:20230326T030000
TZOFFSETFROM:+0200
TZOFFSETTO:+0100
TZNAME:Europe/Berlin CET
END:STANDARD
BEGIN:DAYLIGHT
DTSTART:20210818T000000
RDATE:20211031T020000
TZOFFSETFROM:+0100
TZOFFSETTO:+0200
TZNAME:Europe/Berlin CEST
END:DAYLIGHT
BEGIN:DAYLIGHT
DTSTART:20220327T030000
RDATE:20221030T020000
TZOFFSETFROM:+0100
TZOFFSETTO:+0200
TZNAME:Europe/Berlin CEST
END:DAYLIGHT
END:VTIMEZONE
BEGIN:VEVENT
UID:d53752a0d8ab90dc4726a734356e05ca
CATEGORIES:Sonstige
CREATED:20220808T120318
SUMMARY:DJB Kata Event Köln 2
LOCATION:Köln
DESCRIPTION;ENCODING=QUOTED-PRINTABLE:\n\nKata Event in Köln\n
DTSTAMP:20260425T192822Z
DTSTART;TZID=Europe/Berlin;VALUE=DATE:20220819
DTEND;TZID=Europe/Berlin;VALUE=DATE:20220822
SEQUENCE:0
TRANSP:OPAQUE
END:VEVENT
END:VCALENDAR