BEGIN:VCALENDAR
VERSION:2.0
PRODID:-//jEvents 2.0 for Joomla//EN
CALSCALE:GREGORIAN
METHOD:PUBLISH
BEGIN:VTIMEZONE
TZID:Europe/Berlin
BEGIN:STANDARD
DTSTART:20211031T020000
RDATE:20220327T030000
TZOFFSETFROM:+0200
TZOFFSETTO:+0100
TZNAME:Europe/Berlin CET
END:STANDARD
BEGIN:STANDARD
DTSTART:20221030T020000
RDATE:20230326T030000
TZOFFSETFROM:+0200
TZOFFSETTO:+0100
TZNAME:Europe/Berlin CET
END:STANDARD
BEGIN:DAYLIGHT
DTSTART:20210923T000000
RDATE:20211031T020000
TZOFFSETFROM:+0100
TZOFFSETTO:+0200
TZNAME:Europe/Berlin CEST
END:DAYLIGHT
BEGIN:DAYLIGHT
DTSTART:20220327T030000
RDATE:20221030T020000
TZOFFSETFROM:+0100
TZOFFSETTO:+0200
TZNAME:Europe/Berlin CEST
END:DAYLIGHT
END:VTIMEZONE
BEGIN:VEVENT
UID:b4e03fb6afc5b175c3a3fd62d10587e0
CATEGORIES:MU18, FU18
CREATED:20220807T182642
SUMMARY:SWEM U18
LOCATION:Turnhalle der Erlenbachschule\, Hadamarer Str. 13\, 65604 Elz
DESCRIPTION;ENCODING=QUOTED-PRINTABLE:\n\nSWEM U18 m/w\n
CONTACT:Karolin Schmitz
DTSTAMP:20260421T202346Z
DTSTART;TZID=Europe/Berlin;VALUE=DATE:20220924
DTEND;TZID=Europe/Berlin;VALUE=DATE:20220925
SEQUENCE:0
TRANSP:OPAQUE
END:VEVENT
END:VCALENDAR