BEGIN:VCALENDAR
VERSION:2.0
PRODID:-//jEvents 2.0 for Joomla//EN
CALSCALE:GREGORIAN
METHOD:PUBLISH
BEGIN:VTIMEZONE
TZID:Europe/Berlin
BEGIN:STANDARD
DTSTART:20211031T020000
RDATE:20220327T030000
TZOFFSETFROM:+0200
TZOFFSETTO:+0100
TZNAME:Europe/Berlin CET
END:STANDARD
BEGIN:STANDARD
DTSTART:20221030T020000
RDATE:20230326T030000
TZOFFSETFROM:+0200
TZOFFSETTO:+0100
TZNAME:Europe/Berlin CET
END:STANDARD
BEGIN:DAYLIGHT
DTSTART:20210702T000000
RDATE:20211031T020000
TZOFFSETFROM:+0100
TZOFFSETTO:+0200
TZNAME:Europe/Berlin CEST
END:DAYLIGHT
BEGIN:DAYLIGHT
DTSTART:20220327T030000
RDATE:20221030T020000
TZOFFSETFROM:+0100
TZOFFSETTO:+0200
TZNAME:Europe/Berlin CEST
END:DAYLIGHT
END:VTIMEZONE
BEGIN:VEVENT
UID:c4a181a8f27b2d0eccfb480167de6e16
CATEGORIES:MU11, MU14, FU11, FU14
CREATED:20220519T161322
SUMMARY:Bezirkskämpfe Teil 1 Jugendbezirk Nord
LOCATION:Kreissporthalle Petersberg\, Goerdelerstr. 64; 36100 Petersberg
DESCRIPTION;ENCODING=QUOTED-PRINTABLE:\n\nBezirkskämpfe Teil 1 Jugendbezirk Nord\n
CONTACT:Kay Heger und Roberto Linke
DTSTAMP:20260421T185159Z
DTSTART;TZID=Europe/Berlin;VALUE=DATE:20220703
DTEND;TZID=Europe/Berlin;VALUE=DATE:20220704
SEQUENCE:0
TRANSP:OPAQUE
END:VEVENT
END:VCALENDAR