BEGIN:VCALENDAR
VERSION:2.0
PRODID:-//jEvents 2.0 for Joomla//EN
CALSCALE:GREGORIAN
METHOD:PUBLISH
BEGIN:VTIMEZONE
TZID:Europe/Berlin
BEGIN:STANDARD
DTSTART:20211031T020000
RDATE:20220327T030000
TZOFFSETFROM:+0200
TZOFFSETTO:+0100
TZNAME:Europe/Berlin CET
END:STANDARD
BEGIN:STANDARD
DTSTART:20221030T020000
RDATE:20230326T030000
TZOFFSETFROM:+0200
TZOFFSETTO:+0100
TZNAME:Europe/Berlin CET
END:STANDARD
BEGIN:DAYLIGHT
DTSTART:20210708T000000
RDATE:20211031T020000
TZOFFSETFROM:+0100
TZOFFSETTO:+0200
TZNAME:Europe/Berlin CEST
END:DAYLIGHT
BEGIN:DAYLIGHT
DTSTART:20220327T030000
RDATE:20221030T020000
TZOFFSETFROM:+0100
TZOFFSETTO:+0200
TZNAME:Europe/Berlin CEST
END:DAYLIGHT
END:VTIMEZONE
BEGIN:VEVENT
UID:466f678e2cc01c337270aa74ee45fed3
CATEGORIES:Prüfungswesen
CREATED:20220506T130144
SUMMARY:Dan Prüfung
LOCATION:HTG Bad Homburg\, Niederstedter Weg 2\, 61348 Bad Homburg 
DESCRIPTION;ENCODING=QUOTED-PRINTABLE:\n\nBeginn der Prüfung von 11.00 bis ca.17.00 Uhr \nOffene Matte ab 10:00 U
 hr\n
CONTACT:Michaelo Walter
DTSTAMP:20260421T134442Z
DTSTART;TZID=Europe/Berlin;VALUE=DATE:20220709
DTEND;TZID=Europe/Berlin;VALUE=DATE:20220710
SEQUENCE:0
TRANSP:OPAQUE
END:VEVENT
END:VCALENDAR