BEGIN:VCALENDAR
VERSION:2.0
PRODID:-//jEvents 2.0 for Joomla//EN
CALSCALE:GREGORIAN
METHOD:PUBLISH
BEGIN:VTIMEZONE
TZID:Europe/Berlin
BEGIN:STANDARD
DTSTART:20211031T020000
RDATE:20220327T030000
TZOFFSETFROM:+0200
TZOFFSETTO:+0100
TZNAME:Europe/Berlin CET
END:STANDARD
BEGIN:STANDARD
DTSTART:20221030T020000
RDATE:20230326T030000
TZOFFSETFROM:+0200
TZOFFSETTO:+0100
TZNAME:Europe/Berlin CET
END:STANDARD
BEGIN:DAYLIGHT
DTSTART:20210611T000000
RDATE:20211031T020000
TZOFFSETFROM:+0100
TZOFFSETTO:+0200
TZNAME:Europe/Berlin CEST
END:DAYLIGHT
BEGIN:DAYLIGHT
DTSTART:20220327T030000
RDATE:20221030T020000
TZOFFSETFROM:+0100
TZOFFSETTO:+0200
TZNAME:Europe/Berlin CEST
END:DAYLIGHT
END:VTIMEZONE
BEGIN:VEVENT
UID:fe8ecc1beed35346b01a9a267f0aa000
CATEGORIES:Männer, Frauen
CREATED:20220427T094549
SUMMARY:Hessische Einzelmeisterschaft der Frauen und Männer
LOCATION:65604 Elz\, Hadamarer Str. 13\, Turnhalle der Erlenbachschule
DESCRIPTION;ENCODING=QUOTED-PRINTABLE:\n\nHessische Einzelmeisterschaft Frauen / Männer 2022\nOrt: 65604 Elz, Had
 amarer Str. 13, Turnhalle der Erlenbachschule\nTermin: Sonntag, 12. Juni 20
 22\nWiegen: \nFrauen: 10:00 – 10:30 Uhr\nMänner: 11:30 – 12:00 Uhr\nKampfze
 it: 4 Minuten\nTeilnehmer/in: Hessische Judoka ab Jahrgang ab 2005 \nMindes
 tgraduierung: 7. Kyu\nKampfrichter: Stellt der HJV\nMatten: 2 Matten\nModus
 : Je nach Teilnehmerzahl\nMeldeschluss: 06. Juni 2022\nMeldung: Meldungen e
 rfolgen über das Judo Portal\n\n\nHinweis: Alle Judoka müssen an der Waage 
 einen gültigen Judopass vorlegen. Die Teilnehmer/innen müssen für Unfall- u
 nd Haftpflichtversicherung selbst Sorge tragen, Veranstalter und Ausrichter
  übernehmen keine Haftung.\n\n\nEs wird nach der DJB Wettkampfordnung gekäm
 pft.\n\n\nQualifikation für die Deutsche Einzelmeisterschaft 2022: Die beid
 en Erstplatzierten jeder Gewichtsklasse qualifizieren sich direkt für die D
 eutsche Einzelmeisterschaft der Frauen und Männer am 25./26.06.2022 in Stut
 tgart. Weitere 3 Bonusplätze (je Männer/Frauen) können über die HJV Ranglis
 te vergeben werden.\n\n\nCorona-Regeln: Am Tag der Veranstaltung gilt die a
 ktuelle Corona-Regelung des Landes Hessen, ergänzt durch die Allgemeinverfü
 gung des Landkreises Limburg-Weilburg. \nDatenschutz:Es gilt die Datenschut
 zordnung (DSO) des HJV vom 03.07.2016. Ohne Nachteil können die Teilnehmer/
 innen der Veröffentlichung ihrer Wettkampfdaten/Bild im Internet widersprec
 hen.\n\n\n&nbsp;\n\n\n&nbsp;\n
CONTACT:Michael Blumenstein, Lothar Strecker
DTSTAMP:20260419T232251Z
DTSTART;TZID=Europe/Berlin;VALUE=DATE:20220612
DTEND;TZID=Europe/Berlin;VALUE=DATE:20220613
SEQUENCE:0
TRANSP:OPAQUE
END:VEVENT
END:VCALENDAR