BEGIN:VCALENDAR
VERSION:2.0
PRODID:-//jEvents 2.0 for Joomla//EN
CALSCALE:GREGORIAN
METHOD:PUBLISH
BEGIN:VTIMEZONE
TZID:Europe/Berlin
BEGIN:STANDARD
DTSTART:20211031T020000
RDATE:20220327T030000
TZOFFSETFROM:+0200
TZOFFSETTO:+0100
TZNAME:Europe/Berlin CET
END:STANDARD
BEGIN:STANDARD
DTSTART:20221030T020000
RDATE:20230326T030000
TZOFFSETFROM:+0200
TZOFFSETTO:+0100
TZNAME:Europe/Berlin CET
END:STANDARD
BEGIN:DAYLIGHT
DTSTART:20210513T000000
RDATE:20211031T020000
TZOFFSETFROM:+0100
TZOFFSETTO:+0200
TZNAME:Europe/Berlin CEST
END:DAYLIGHT
BEGIN:DAYLIGHT
DTSTART:20220327T030000
RDATE:20221030T020000
TZOFFSETFROM:+0100
TZOFFSETTO:+0200
TZNAME:Europe/Berlin CEST
END:DAYLIGHT
END:VTIMEZONE
BEGIN:VEVENT
UID:f48d0359d1da15e875b136dee910cba5
CATEGORIES:Sonstige
CREATED:20220407T111821
SUMMARY:HJV Kata Training
LOCATION:Bad Homburg\, Niederstedter Weg 2\, Primodeus Park (ehemals Ferry Park)
DESCRIPTION;ENCODING=QUOTED-PRINTABLE:<p>in Bad Homburg, Niederstedter Weg 2, Primodeus Park (ehemals Ferry Park)
 , im Dojo der HTG Bad Homburg jeweils am</p><p>&nbsp;</p><p>14.05.2022&nbsp
 ;&nbsp;&nbsp;&nbsp;&nbsp;&nbsp;&nbsp;&nbsp;&nbsp;&nbsp;&nbsp;&nbsp; 15:00 -
  17:30 Uhr</p><p>&nbsp;Diese Lehrgänge sind für alle Judoka des HJV, auch J
 ugendliche ab 14 Jahren, die Kata üben und lernen wollen.&nbsp;</p>
CONTACT:Werner Müller
DTSTAMP:20260421T120250Z
DTSTART;TZID=Europe/Berlin;VALUE=DATE:20220514
DTEND;TZID=Europe/Berlin;VALUE=DATE:20220515
SEQUENCE:0
TRANSP:OPAQUE
END:VEVENT
END:VCALENDAR