BEGIN:VCALENDAR
VERSION:2.0
PRODID:-//jEvents 2.0 for Joomla//EN
CALSCALE:GREGORIAN
METHOD:PUBLISH
BEGIN:VTIMEZONE
TZID:Europe/Berlin
BEGIN:STANDARD
DTSTART:20211031T020000
RDATE:20220327T030000
TZOFFSETFROM:+0200
TZOFFSETTO:+0100
TZNAME:Europe/Berlin CET
END:STANDARD
BEGIN:STANDARD
DTSTART:20221030T020000
RDATE:20230326T030000
TZOFFSETFROM:+0200
TZOFFSETTO:+0100
TZNAME:Europe/Berlin CET
END:STANDARD
BEGIN:DAYLIGHT
DTSTART:20210609T000000
RDATE:20211031T020000
TZOFFSETFROM:+0100
TZOFFSETTO:+0200
TZNAME:Europe/Berlin CEST
END:DAYLIGHT
BEGIN:DAYLIGHT
DTSTART:20220327T030000
RDATE:20221030T020000
TZOFFSETFROM:+0100
TZOFFSETTO:+0200
TZNAME:Europe/Berlin CEST
END:DAYLIGHT
END:VTIMEZONE
BEGIN:VEVENT
UID:ab2a689d9abab9669a3abffc4d6cf5d6
CATEGORIES:MU13, MU15, FU13, FU15
CREATED:20220404T113633
SUMMARY:Wochenendlehrgang Ronneburg 
LOCATION:Jugendzentrum Ronneburg Am Weißen Berg 63549 Ronneburg 
DESCRIPTION;ENCODING=QUOTED-PRINTABLE:\n\nWochenendlehrgang U13 - U15 Ronneburg\n
CONTACT:Jugendleitung
DTSTAMP:20260421T132235Z
DTSTART;TZID=Europe/Berlin;VALUE=DATE:20220610
DTEND;TZID=Europe/Berlin;VALUE=DATE:20220613
SEQUENCE:0
TRANSP:OPAQUE
END:VEVENT
END:VCALENDAR