BEGIN:VCALENDAR
VERSION:2.0
PRODID:-//jEvents 2.0 for Joomla//EN
CALSCALE:GREGORIAN
METHOD:PUBLISH
BEGIN:VTIMEZONE
TZID:Europe/Berlin
BEGIN:STANDARD
DTSTART:20211031T020000
RDATE:20220327T030000
TZOFFSETFROM:+0200
TZOFFSETTO:+0100
TZNAME:Europe/Berlin CET
END:STANDARD
BEGIN:STANDARD
DTSTART:20221030T020000
RDATE:20230326T030000
TZOFFSETFROM:+0200
TZOFFSETTO:+0100
TZNAME:Europe/Berlin CET
END:STANDARD
BEGIN:DAYLIGHT
DTSTART:20210430T000000
RDATE:20211031T020000
TZOFFSETFROM:+0100
TZOFFSETTO:+0200
TZNAME:Europe/Berlin CEST
END:DAYLIGHT
BEGIN:DAYLIGHT
DTSTART:20220327T030000
RDATE:20221030T020000
TZOFFSETFROM:+0100
TZOFFSETTO:+0200
TZNAME:Europe/Berlin CEST
END:DAYLIGHT
END:VTIMEZONE
BEGIN:VEVENT
UID:ccbc98f6228b63cbe6a30c0f0495d908
CATEGORIES:Handycap-Judo
CREATED:20220320T121153
SUMMARY:Jugend Länder Cup Fulda
LOCATION:Gellings-Halle\, Willi-Glotzbach-Weg 1\, 36037 Fulda
DESCRIPTION;ENCODING=QUOTED-PRINTABLE:<p>Jugend Länder Cup Fulda&nbsp;</p><p><a href="https://www.dbs-npc.de/dbsj
 -jugend-laender-cup.html?msclkid=f2a16b31a6d511ec887f44ee335ebe46">DBS | DB
 SJugend | DBSJ - Jugend-Länder-Cup (dbs-npc.de)<br />https://www.jugendlaen
 dercup2022.de/<br /></a></p><p>&nbsp;</p>
CONTACT:Markus Zaumbrecher
DTSTAMP:20260421T103535Z
DTSTART;TZID=Europe/Berlin;VALUE=DATE:20220501
DTEND;TZID=Europe/Berlin;VALUE=DATE:20220502
SEQUENCE:0
TRANSP:OPAQUE
END:VEVENT
END:VCALENDAR