BEGIN:VCALENDAR
VERSION:2.0
PRODID:-//jEvents 2.0 for Joomla//EN
CALSCALE:GREGORIAN
METHOD:PUBLISH
BEGIN:VTIMEZONE
TZID:Europe/Berlin
BEGIN:STANDARD
DTSTART:20211031T020000
RDATE:20220327T030000
TZOFFSETFROM:+0200
TZOFFSETTO:+0100
TZNAME:Europe/Berlin CET
END:STANDARD
BEGIN:STANDARD
DTSTART:20221030T020000
RDATE:20230326T030000
TZOFFSETFROM:+0200
TZOFFSETTO:+0100
TZNAME:Europe/Berlin CET
END:STANDARD
BEGIN:DAYLIGHT
DTSTART:20210715T000000
RDATE:20211031T020000
TZOFFSETFROM:+0100
TZOFFSETTO:+0200
TZNAME:Europe/Berlin CEST
END:DAYLIGHT
BEGIN:DAYLIGHT
DTSTART:20220327T030000
RDATE:20221030T020000
TZOFFSETFROM:+0100
TZOFFSETTO:+0200
TZNAME:Europe/Berlin CEST
END:DAYLIGHT
END:VTIMEZONE
BEGIN:VEVENT
UID:895eb5a577e98bf80b5fcaf06ed3a3ba
CATEGORIES:Männer, Frauen
CREATED:20220312T210801
SUMMARY:EC Zürich MF
LOCATION:Zürich
DESCRIPTION;ENCODING=QUOTED-PRINTABLE:<p>EC Frauen und Männer in Wintertur</p>
DTSTAMP:20260419T173523Z
DTSTART;TZID=Europe/Berlin;VALUE=DATE:20220716
DTEND;TZID=Europe/Berlin;VALUE=DATE:20220718
SEQUENCE:0
TRANSP:OPAQUE
END:VEVENT
END:VCALENDAR