BEGIN:VCALENDAR
VERSION:2.0
PRODID:-//jEvents 2.0 for Joomla//EN
CALSCALE:GREGORIAN
METHOD:PUBLISH
BEGIN:VTIMEZONE
TZID:Europe/Berlin
BEGIN:STANDARD
DTSTART:20211031T020000
RDATE:20220327T030000
TZOFFSETFROM:+0200
TZOFFSETTO:+0100
TZNAME:Europe/Berlin CET
END:STANDARD
BEGIN:STANDARD
DTSTART:20221030T020000
RDATE:20230326T030000
TZOFFSETFROM:+0200
TZOFFSETTO:+0100
TZNAME:Europe/Berlin CET
END:STANDARD
BEGIN:DAYLIGHT
DTSTART:20210429T000000
RDATE:20211031T020000
TZOFFSETFROM:+0100
TZOFFSETTO:+0200
TZNAME:Europe/Berlin CEST
END:DAYLIGHT
BEGIN:DAYLIGHT
DTSTART:20220327T030000
RDATE:20221030T020000
TZOFFSETFROM:+0100
TZOFFSETTO:+0200
TZNAME:Europe/Berlin CEST
END:DAYLIGHT
END:VTIMEZONE
BEGIN:VEVENT
UID:38120415975bdec67bf0d7bcc4b8037b
CATEGORIES:Männer, MU18, MU21, Frauen, FU18, FU21
CREATED:20220312T205222
SUMMARY:Randori LG 3
LOCATION:Dojo des JC Wiesbaden\, Konrad-Adenauer-Ring
DESCRIPTION;ENCODING=QUOTED-PRINTABLE:<p>Randorilehrgang 3 für alle Judoka ab 17 Jahre.</p><p>&nbsp;</p><p>1 TE 1
 0:00 - 12:00</p><p>2 TE 13:00 - 15:00</p>
CONTACT:Sportwarte
DTSTAMP:20260420T021622Z
DTSTART;TZID=Europe/Berlin;VALUE=DATE:20220430
DTEND;TZID=Europe/Berlin;VALUE=DATE:20220501
SEQUENCE:0
TRANSP:OPAQUE
END:VEVENT
END:VCALENDAR