BEGIN:VCALENDAR
VERSION:2.0
PRODID:-//jEvents 2.0 for Joomla//EN
CALSCALE:GREGORIAN
METHOD:PUBLISH
BEGIN:VTIMEZONE
TZID:Europe/Berlin
BEGIN:STANDARD
DTSTART:20211031T020000
RDATE:20220327T030000
TZOFFSETFROM:+0200
TZOFFSETTO:+0100
TZNAME:Europe/Berlin CET
END:STANDARD
BEGIN:STANDARD
DTSTART:20221030T020000
RDATE:20230326T030000
TZOFFSETFROM:+0200
TZOFFSETTO:+0100
TZNAME:Europe/Berlin CET
END:STANDARD
BEGIN:DAYLIGHT
DTSTART:20210506T000000
RDATE:20211031T020000
TZOFFSETFROM:+0100
TZOFFSETTO:+0200
TZNAME:Europe/Berlin CEST
END:DAYLIGHT
BEGIN:DAYLIGHT
DTSTART:20220327T030000
RDATE:20221030T020000
TZOFFSETFROM:+0100
TZOFFSETTO:+0200
TZNAME:Europe/Berlin CEST
END:DAYLIGHT
END:VTIMEZONE
BEGIN:VEVENT
UID:72d809fa5a13925029817d207da050f0
CATEGORIES:MU21, FU21
CREATED:20220312T204747
SUMMARY:EC Nanterre U21
LOCATION:Nanterre
DESCRIPTION;ENCODING=QUOTED-PRINTABLE:\n\nEC der Junioren Frankreich\n
DTSTAMP:20260420T004846Z
DTSTART;TZID=Europe/Berlin;VALUE=DATE:20220507
DTEND;TZID=Europe/Berlin;VALUE=DATE:20220509
SEQUENCE:0
TRANSP:OPAQUE
END:VEVENT
END:VCALENDAR