BEGIN:VCALENDAR
VERSION:2.0
PRODID:-//jEvents 2.0 for Joomla//EN
CALSCALE:GREGORIAN
METHOD:PUBLISH
BEGIN:VTIMEZONE
TZID:Europe/Berlin
BEGIN:STANDARD
DTSTART:20211031T020000
RDATE:20220327T030000
TZOFFSETFROM:+0200
TZOFFSETTO:+0100
TZNAME:Europe/Berlin CET
END:STANDARD
BEGIN:STANDARD
DTSTART:20221030T020000
RDATE:20230326T030000
TZOFFSETFROM:+0200
TZOFFSETTO:+0100
TZNAME:Europe/Berlin CET
END:STANDARD
BEGIN:DAYLIGHT
DTSTART:20210513T000000
RDATE:20211031T020000
TZOFFSETFROM:+0100
TZOFFSETTO:+0200
TZNAME:Europe/Berlin CEST
END:DAYLIGHT
BEGIN:DAYLIGHT
DTSTART:20220327T030000
RDATE:20221030T020000
TZOFFSETFROM:+0100
TZOFFSETTO:+0200
TZNAME:Europe/Berlin CEST
END:DAYLIGHT
END:VTIMEZONE
BEGIN:VEVENT
UID:ca5f3fcd00304155a17e8367b13f8b2c
CATEGORIES:Prüfungswesen
CREATED:20220307T173615
SUMMARY:Danvorbereitungslehrgang 
LOCATION:Gymnastikhalle der Blista Marburg; Am Schlag 12; 35037 Marburg
DESCRIPTION;ENCODING=QUOTED-PRINTABLE:\n\nDanvorbereitungslehrgang&nbsp;\n\n\nModul 1:&nbsp; &nbsp;Boden Vorkennt
 nisse / Bodentechniken / Anwendungsaufgabe Boden / Kata\n
CONTACT:Christian Rhode
DTSTAMP:20260420T004840Z
DTSTART;TZID=Europe/Berlin;VALUE=DATE:20220514
DTEND;TZID=Europe/Berlin;VALUE=DATE:20220515
SEQUENCE:0
TRANSP:OPAQUE
END:VEVENT
END:VCALENDAR