BEGIN:VCALENDAR
VERSION:2.0
PRODID:-//jEvents 2.0 for Joomla//EN
CALSCALE:GREGORIAN
METHOD:PUBLISH
BEGIN:VTIMEZONE
TZID:Europe/Berlin
BEGIN:STANDARD
DTSTART:20211031T020000
RDATE:20220327T030000
TZOFFSETFROM:+0200
TZOFFSETTO:+0100
TZNAME:Europe/Berlin CET
END:STANDARD
BEGIN:STANDARD
DTSTART:20221030T020000
RDATE:20230326T030000
TZOFFSETFROM:+0200
TZOFFSETTO:+0100
TZNAME:Europe/Berlin CET
END:STANDARD
BEGIN:DAYLIGHT
DTSTART:20210401T000000
RDATE:20211031T020000
TZOFFSETFROM:+0100
TZOFFSETTO:+0200
TZNAME:Europe/Berlin CEST
END:DAYLIGHT
BEGIN:DAYLIGHT
DTSTART:20220327T030000
RDATE:20221030T020000
TZOFFSETFROM:+0100
TZOFFSETTO:+0200
TZNAME:Europe/Berlin CEST
END:DAYLIGHT
END:VTIMEZONE
BEGIN:VEVENT
UID:349937533a8d740ab4bdfe695e03e87b
CATEGORIES:Wettkampfsport, FU16
CREATED:20220226T175628
SUMMARY:3. Düsseldorf Open U16 w
LOCATION:Düsseldorf
DESCRIPTION;ENCODING=QUOTED-PRINTABLE:\n\n3. Düsseldorf Open&nbsp;\n
DTSTAMP:20260420T021106Z
DTSTART;TZID=Europe/Berlin;VALUE=DATE:20220402
DTEND;TZID=Europe/Berlin;VALUE=DATE:20220403
SEQUENCE:0
TRANSP:OPAQUE
END:VEVENT
END:VCALENDAR