BEGIN:VCALENDAR
VERSION:2.0
PRODID:-//jEvents 2.0 for Joomla//EN
CALSCALE:GREGORIAN
METHOD:PUBLISH
BEGIN:VTIMEZONE
TZID:Europe/Berlin
BEGIN:STANDARD
DTSTART:20211031T020000
RDATE:20220327T030000
TZOFFSETFROM:+0200
TZOFFSETTO:+0100
TZNAME:Europe/Berlin CET
END:STANDARD
BEGIN:STANDARD
DTSTART:20221030T020000
RDATE:20230326T030000
TZOFFSETFROM:+0200
TZOFFSETTO:+0100
TZNAME:Europe/Berlin CET
END:STANDARD
BEGIN:DAYLIGHT
DTSTART:20210723T000000
RDATE:20211031T020000
TZOFFSETFROM:+0100
TZOFFSETTO:+0200
TZNAME:Europe/Berlin CEST
END:DAYLIGHT
BEGIN:DAYLIGHT
DTSTART:20220327T030000
RDATE:20221030T020000
TZOFFSETFROM:+0100
TZOFFSETTO:+0200
TZNAME:Europe/Berlin CEST
END:DAYLIGHT
END:VTIMEZONE
BEGIN:VEVENT
UID:dbdd6b478539ae64839a0f0485c856f7
CATEGORIES:Prüfungswesen
CREATED:20220224T200750
SUMMARY:Danvorbereitungslehrgang 
LOCATION:Städtisches Sportzentrum\, Dojo im 1.Obergeschoss 63165 Mühlheim a.M.\, Ant
 on-Dey-Straße 60
DESCRIPTION;ENCODING=QUOTED-PRINTABLE:\n\nDanvorbereitungslehrgang in Mühlheim Modul 3\n\n\nverschoben vom 10.07.
  auf 24.07.2022\n
CONTACT:Burkhard Hubner und Wolfgang Geissler
DTSTAMP:20260419T173452Z
DTSTART;TZID=Europe/Berlin;VALUE=DATE:20220724
DTEND;TZID=Europe/Berlin;VALUE=DATE:20220725
SEQUENCE:0
TRANSP:OPAQUE
END:VEVENT
END:VCALENDAR