BEGIN:VCALENDAR
VERSION:2.0
PRODID:-//jEvents 2.0 for Joomla//EN
CALSCALE:GREGORIAN
METHOD:PUBLISH
BEGIN:VTIMEZONE
TZID:Europe/Berlin
BEGIN:STANDARD
DTSTART:20211031T020000
RDATE:20220327T030000
TZOFFSETFROM:+0200
TZOFFSETTO:+0100
TZNAME:Europe/Berlin CET
END:STANDARD
BEGIN:STANDARD
DTSTART:20221030T020000
RDATE:20230326T030000
TZOFFSETFROM:+0200
TZOFFSETTO:+0100
TZNAME:Europe/Berlin CET
END:STANDARD
BEGIN:DAYLIGHT
DTSTART:20210514T000000
RDATE:20211031T020000
TZOFFSETFROM:+0100
TZOFFSETTO:+0200
TZNAME:Europe/Berlin CEST
END:DAYLIGHT
BEGIN:DAYLIGHT
DTSTART:20220327T030000
RDATE:20221030T020000
TZOFFSETFROM:+0100
TZOFFSETTO:+0200
TZNAME:Europe/Berlin CEST
END:DAYLIGHT
END:VTIMEZONE
BEGIN:VEVENT
UID:2497d0eaa97b5b2706cafb0d6287d1e4
CATEGORIES:Prüfungswesen
CREATED:20220224T200119
SUMMARY:Danvorbereitungslehrgang 
LOCATION:Mehrzweckhalle neben der Eduard-David-Sporthalle 35435 Wettenberg / Krofdor
 f-Gleiberg\, Turnhallenstraße
DESCRIPTION;ENCODING=QUOTED-PRINTABLE:\n\nDanvorbereitungslehrgang in Wettenberg Modul 3\n
CONTACT:Burkhard Hubner und Wolfgang Geissler
DTSTAMP:20260421T121937Z
DTSTART;TZID=Europe/Berlin;VALUE=DATE:20220515
DTEND;TZID=Europe/Berlin;VALUE=DATE:20220516
SEQUENCE:0
TRANSP:OPAQUE
END:VEVENT
END:VCALENDAR