BEGIN:VCALENDAR
VERSION:2.0
PRODID:-//jEvents 2.0 for Joomla//EN
CALSCALE:GREGORIAN
METHOD:PUBLISH
BEGIN:VTIMEZONE
TZID:Europe/Berlin
BEGIN:STANDARD
DTSTART:20210305T000000
RDATE:20210328T030000
TZOFFSETFROM:+0200
TZOFFSETTO:+0100
TZNAME:Europe/Berlin CET
END:STANDARD
BEGIN:STANDARD
DTSTART:20211031T020000
RDATE:20220327T030000
TZOFFSETFROM:+0200
TZOFFSETTO:+0100
TZNAME:Europe/Berlin CET
END:STANDARD
BEGIN:STANDARD
DTSTART:20221030T020000
RDATE:20230326T030000
TZOFFSETFROM:+0200
TZOFFSETTO:+0100
TZNAME:Europe/Berlin CET
END:STANDARD
BEGIN:DAYLIGHT
DTSTART:20210328T030000
RDATE:20211031T020000
TZOFFSETFROM:+0100
TZOFFSETTO:+0200
TZNAME:Europe/Berlin CEST
END:DAYLIGHT
BEGIN:DAYLIGHT
DTSTART:20220327T030000
RDATE:20221030T020000
TZOFFSETFROM:+0100
TZOFFSETTO:+0200
TZNAME:Europe/Berlin CEST
END:DAYLIGHT
END:VTIMEZONE
BEGIN:VEVENT
UID:0b01d3151f8c90508e500b9717372a8f
CATEGORIES:Prüfungswesen
CREATED:20220224T195644
SUMMARY:Danvorbereitungslehrgang 
LOCATION:Mehrzweckhalle neben der Eduard-David-Sporthalle 35435 Wettenberg / Krofdor
 f-Gleiberg\, Turnhallenstraße
DESCRIPTION;ENCODING=QUOTED-PRINTABLE:<p>Danvorbereitungslehrgang&nbsp; in Wettenberg Modul 1&nbsp;</p>
CONTACT:Burkhard Hubner und Wolfgang Geissler
DTSTAMP:20260420T063057Z
DTSTART;TZID=Europe/Berlin;VALUE=DATE:20220306
DTEND;TZID=Europe/Berlin;VALUE=DATE:20220307
SEQUENCE:0
TRANSP:OPAQUE
END:VEVENT
END:VCALENDAR