BEGIN:VCALENDAR
VERSION:2.0
PRODID:-//jEvents 2.0 for Joomla//EN
CALSCALE:GREGORIAN
METHOD:PUBLISH
BEGIN:VTIMEZONE
TZID:Europe/Berlin
BEGIN:STANDARD
DTSTART:20210312T000000
RDATE:20210328T030000
TZOFFSETFROM:+0200
TZOFFSETTO:+0100
TZNAME:Europe/Berlin CET
END:STANDARD
BEGIN:STANDARD
DTSTART:20211031T020000
RDATE:20220327T030000
TZOFFSETFROM:+0200
TZOFFSETTO:+0100
TZNAME:Europe/Berlin CET
END:STANDARD
BEGIN:STANDARD
DTSTART:20221030T020000
RDATE:20230326T030000
TZOFFSETFROM:+0200
TZOFFSETTO:+0100
TZNAME:Europe/Berlin CET
END:STANDARD
BEGIN:DAYLIGHT
DTSTART:20210328T030000
RDATE:20211031T020000
TZOFFSETFROM:+0100
TZOFFSETTO:+0200
TZNAME:Europe/Berlin CEST
END:DAYLIGHT
BEGIN:DAYLIGHT
DTSTART:20220327T030000
RDATE:20221030T020000
TZOFFSETFROM:+0100
TZOFFSETTO:+0200
TZNAME:Europe/Berlin CEST
END:DAYLIGHT
END:VTIMEZONE
BEGIN:VEVENT
UID:09e44082eede6b83db78c4092cb7cb30
CATEGORIES:Wettkampfsport, FU15
CREATED:20220220T201153
SUMMARY:Backnang U15w
LOCATION:Backnang
DESCRIPTION;ENCODING=QUOTED-PRINTABLE:<p>Bundesoffenes Pokalsichtungsturnier U15w</p>
DTSTAMP:20260420T063204Z
DTSTART;TZID=Europe/Berlin;VALUE=DATE:20220313
DTEND;TZID=Europe/Berlin;VALUE=DATE:20220314
SEQUENCE:0
TRANSP:OPAQUE
END:VEVENT
END:VCALENDAR