BEGIN:VCALENDAR
VERSION:2.0
PRODID:-//jEvents 2.0 for Joomla//EN
CALSCALE:GREGORIAN
METHOD:PUBLISH
BEGIN:VTIMEZONE
TZID:Europe/Berlin
BEGIN:STANDARD
DTSTART:20210225T000000
RDATE:20210328T030000
TZOFFSETFROM:+0200
TZOFFSETTO:+0100
TZNAME:Europe/Berlin CET
END:STANDARD
BEGIN:STANDARD
DTSTART:20211031T020000
RDATE:20220327T030000
TZOFFSETFROM:+0200
TZOFFSETTO:+0100
TZNAME:Europe/Berlin CET
END:STANDARD
BEGIN:STANDARD
DTSTART:20221030T020000
RDATE:20230326T030000
TZOFFSETFROM:+0200
TZOFFSETTO:+0100
TZNAME:Europe/Berlin CET
END:STANDARD
BEGIN:DAYLIGHT
DTSTART:20210328T030000
RDATE:20211031T020000
TZOFFSETFROM:+0100
TZOFFSETTO:+0200
TZNAME:Europe/Berlin CEST
END:DAYLIGHT
BEGIN:DAYLIGHT
DTSTART:20220327T030000
RDATE:20221030T020000
TZOFFSETFROM:+0100
TZOFFSETTO:+0200
TZNAME:Europe/Berlin CEST
END:DAYLIGHT
END:VTIMEZONE
BEGIN:VEVENT
UID:007f5a83ee627be3954ce49a86aefdeb
CATEGORIES:MU13, MU15, FU13, FU15, Lehrgänge
CREATED:20220214T184224
SUMMARY:Landeslehrgang U13 + U15
LOCATION:Sporthalle am 2. Ring\, Konrad-Adenauer-Ring 55\, 65187 Wiesbaden
DESCRIPTION;ENCODING=QUOTED-PRINTABLE:<p>Landeslehrgang U 13 + U15 in Wiesbaden&nbsp;</p><p>Jahrgänge 2008 - 2012
 </p><p>Zeit:</p><p>1. Trainingseinheit: 10.00 - 12.00 Uhr</p><p>2. Training
 seinheit: 13.00 - 15.00 Uhr</p>
CONTACT:Landesjugendleitung
DTSTAMP:20260420T075716Z
DTSTART;TZID=Europe/Berlin;VALUE=DATE:20220226
DTEND;TZID=Europe/Berlin;VALUE=DATE:20220227
SEQUENCE:0
TRANSP:OPAQUE
END:VEVENT
END:VCALENDAR