BEGIN:VCALENDAR
VERSION:2.0
PRODID:-//jEvents 2.0 for Joomla//EN
CALSCALE:GREGORIAN
METHOD:PUBLISH
BEGIN:VTIMEZONE
TZID:Europe/Berlin
BEGIN:STANDARD
DTSTART:20210211T100000
RDATE:20210328T030000
TZOFFSETFROM:+0200
TZOFFSETTO:+0100
TZNAME:Europe/Berlin CET
END:STANDARD
BEGIN:STANDARD
DTSTART:20211031T020000
RDATE:20220327T030000
TZOFFSETFROM:+0200
TZOFFSETTO:+0100
TZNAME:Europe/Berlin CET
END:STANDARD
BEGIN:STANDARD
DTSTART:20221030T020000
RDATE:20230326T030000
TZOFFSETFROM:+0200
TZOFFSETTO:+0100
TZNAME:Europe/Berlin CET
END:STANDARD
BEGIN:DAYLIGHT
DTSTART:20210328T030000
RDATE:20211031T020000
TZOFFSETFROM:+0100
TZOFFSETTO:+0200
TZNAME:Europe/Berlin CEST
END:DAYLIGHT
BEGIN:DAYLIGHT
DTSTART:20220327T030000
RDATE:20221030T020000
TZOFFSETFROM:+0100
TZOFFSETTO:+0200
TZNAME:Europe/Berlin CEST
END:DAYLIGHT
END:VTIMEZONE
BEGIN:VEVENT
UID:2502025722c0f2567d9d35a3f11fd68f
CATEGORIES:Wettkampfsport
CREATED:20220204T091351
SUMMARY:Gruppenlehrgang Südwest U18/U21
LOCATION:Judomaxx\, Butenschönstr. 8\, 67346 Speyer
DESCRIPTION;ENCODING=QUOTED-PRINTABLE:\n\nSÜDWEST GRUPPENLEHRGANG U18/U21\n\n\n\nMeldungen bis Mittwoch, 09.02.22
  an die Landestrainerin Simone Schuster \nDiese E-Mail-Adresse ist vor Spam
 bots geschützt! Zur Anzeige muss JavaScript eingeschaltet sein!
				documen
 t.getElementById('cloak775b46561b579b67d20f5b55d7730a9a').innerHTML = '';
	
 			var prefix = '&#109;a' + 'i&#108;' + '&#116;o';
				var path = 'hr' + 'e
 f' + '=';
				var addy775b46561b579b67d20f5b55d7730a9a = 's.sch&#117;st&#10
 1;r' + '&#64;';
				addy775b46561b579b67d20f5b55d7730a9a = addy775b46561b57
 9b67d20f5b55d7730a9a + 'j&#117;d&#111;v&#101;rb&#97;ndpf&#97;lz' + '&#46;' 
 + '&#101;&#117;';
				var addy_text775b46561b579b67d20f5b55d7730a9a = 's.sc
 h&#117;st&#101;r' + '&#64;' + 'j&#117;d&#111;v&#101;rb&#97;ndpf&#97;lz' + '
 &#46;' + '&#101;&#117;';document.getElementById('cloak775b46561b579b67d20f5
 b55d7730a9a').innerHTML += ''+addy_text775b46561b579b67d20f5b55d7730a9a+'';
 
		)\n
CONTACT:Simone Schuster
DTSTAMP:20260420T075603Z
DTSTART;TZID=Europe/Berlin:20220212T100000
DTEND;TZID=Europe/Berlin:20220212T150000
SEQUENCE:0
TRANSP:OPAQUE
END:VEVENT
END:VCALENDAR