BEGIN:VCALENDAR
VERSION:2.0
PRODID:-//jEvents 2.0 for Joomla//EN
CALSCALE:GREGORIAN
METHOD:PUBLISH
BEGIN:VTIMEZONE
TZID:Europe/Berlin
BEGIN:STANDARD
DTSTART:20211031T020000
RDATE:20220327T030000
TZOFFSETFROM:+0200
TZOFFSETTO:+0100
TZNAME:Europe/Berlin CET
END:STANDARD
BEGIN:STANDARD
DTSTART:20221030T020000
RDATE:20230326T030000
TZOFFSETFROM:+0200
TZOFFSETTO:+0100
TZNAME:Europe/Berlin CET
END:STANDARD
BEGIN:DAYLIGHT
DTSTART:20210513T000000
RDATE:20211031T020000
TZOFFSETFROM:+0100
TZOFFSETTO:+0200
TZNAME:Europe/Berlin CEST
END:DAYLIGHT
BEGIN:DAYLIGHT
DTSTART:20220327T030000
RDATE:20221030T020000
TZOFFSETFROM:+0100
TZOFFSETTO:+0200
TZNAME:Europe/Berlin CEST
END:DAYLIGHT
END:VTIMEZONE
BEGIN:VEVENT
UID:6ecd9407d0be01d385e49a52e638ad5f
CATEGORIES:Prüfungswesen
CREATED:20220201T120939
SUMMARY:Kyu Prüfer Lehrgang
LOCATION:TSV Bebra 1887 e.V.\, Am Sportplatz 1\, 36179 Bebra 
DESCRIPTION;ENCODING=QUOTED-PRINTABLE:<p>Kyu Prüfer Lehrgang</p>
CONTACT:Michaelo Walter
DTSTAMP:20260420T021524Z
DTSTART;TZID=Europe/Berlin;VALUE=DATE:20220514
DTEND;TZID=Europe/Berlin;VALUE=DATE:20220515
SEQUENCE:0
TRANSP:OPAQUE
END:VEVENT
END:VCALENDAR