BEGIN:VCALENDAR
VERSION:2.0
PRODID:-//jEvents 2.0 for Joomla//EN
CALSCALE:GREGORIAN
METHOD:PUBLISH
BEGIN:VTIMEZONE
TZID:Europe/Berlin
BEGIN:STANDARD
DTSTART:20211031T020000
RDATE:20220327T030000
TZOFFSETFROM:+0200
TZOFFSETTO:+0100
TZNAME:Europe/Berlin CET
END:STANDARD
BEGIN:STANDARD
DTSTART:20221030T020000
RDATE:20230326T030000
TZOFFSETFROM:+0200
TZOFFSETTO:+0100
TZNAME:Europe/Berlin CET
END:STANDARD
BEGIN:DAYLIGHT
DTSTART:20210402T000000
RDATE:20211031T020000
TZOFFSETFROM:+0100
TZOFFSETTO:+0200
TZNAME:Europe/Berlin CEST
END:DAYLIGHT
BEGIN:DAYLIGHT
DTSTART:20220327T030000
RDATE:20221030T020000
TZOFFSETFROM:+0100
TZOFFSETTO:+0200
TZNAME:Europe/Berlin CEST
END:DAYLIGHT
END:VTIMEZONE
BEGIN:VEVENT
UID:4fa87f2d17cc8ba3ae338c1d5c3aca3a
CATEGORIES:Prüfungswesen
CREATED:20220201T120807
SUMMARY:Dan (Modul)Prüfung
LOCATION:Feri Halle\, Niederstedter Weg 2\, 61348 Bad Homburg 
DESCRIPTION;ENCODING=QUOTED-PRINTABLE:\n\nDan Modul Prüfung\n\n\nEs gilt die Datenschutzordnung des HJV vom 3. Ju
 li 2016. Die Corona-Regeln des HTG Bad Homburg sind zu beachten.\nKosten: D
 an-Prüfungsgebühr: 100,- €\nAnmeldeschluss: 15.03.2022 - 24:00 Uhr\n\n\nAnm
 eldelink für die Dan-Prüfung (Prüfungsgebühr):&nbsp; https://doo.net/verans
 taltung/102313/buchung\n\n\nAnmeldelink für die Dan - Module: https://doo.n
 et/veranstaltung/102311/buchung\n\n\nReferent für das Prüfungswesen\nMichae
 lo Walter\nHessischer Judo-Verband e.V.\nOtto-Fleck-Schneise 4, 60528 Frank
 furt am Main\nTel: 069/ 677 33 751\nDiese E-Mail-Adresse ist vor Spambots g
 eschützt! Zur Anzeige muss JavaScript eingeschaltet sein!
				document.getE
 lementById('cloak65e1bf725557d9933c16398d5c2ca36a').innerHTML = '';
				var
  prefix = '&#109;a' + 'i&#108;' + '&#116;o';
				var path = 'hr' + 'ef' + '
 =';
				var addy65e1bf725557d9933c16398d5c2ca36a = 'w&#97;lt&#101;r' + '&#6
 4;';
				addy65e1bf725557d9933c16398d5c2ca36a = addy65e1bf725557d9933c16398
 d5c2ca36a + 'h&#101;ss&#101;nj&#117;d&#111;' + '&#46;' + 'd&#101;';
				var
  addy_text65e1bf725557d9933c16398d5c2ca36a = 'w&#97;lt&#101;r' + '&#64;' + 
 'h&#101;ss&#101;nj&#117;d&#111;' + '&#46;' + 'd&#101;';document.getElementB
 yId('cloak65e1bf725557d9933c16398d5c2ca36a').innerHTML += ''+addy_text65e1b
 f725557d9933c16398d5c2ca36a+'';
		\n
CONTACT:Michaelo Walter
DTSTAMP:20260420T021316Z
DTSTART;TZID=Europe/Berlin;VALUE=DATE:20220403
DTEND;TZID=Europe/Berlin;VALUE=DATE:20220404
SEQUENCE:0
TRANSP:OPAQUE
END:VEVENT
END:VCALENDAR