BEGIN:VCALENDAR
VERSION:2.0
PRODID:-//jEvents 2.0 for Joomla//EN
CALSCALE:GREGORIAN
METHOD:PUBLISH
BEGIN:VTIMEZONE
TZID:Europe/Berlin
BEGIN:STANDARD
DTSTART:20211031T020000
RDATE:20220327T030000
TZOFFSETFROM:+0200
TZOFFSETTO:+0100
TZNAME:Europe/Berlin CET
END:STANDARD
BEGIN:STANDARD
DTSTART:20221030T020000
RDATE:20230326T030000
TZOFFSETFROM:+0200
TZOFFSETTO:+0100
TZNAME:Europe/Berlin CET
END:STANDARD
BEGIN:DAYLIGHT
DTSTART:20210715T000000
RDATE:20211031T020000
TZOFFSETFROM:+0100
TZOFFSETTO:+0200
TZNAME:Europe/Berlin CEST
END:DAYLIGHT
BEGIN:DAYLIGHT
DTSTART:20220327T030000
RDATE:20221030T020000
TZOFFSETFROM:+0100
TZOFFSETTO:+0200
TZNAME:Europe/Berlin CEST
END:DAYLIGHT
END:VTIMEZONE
BEGIN:VEVENT
UID:939f4e9a12145e53faeeab188c4920e0
CATEGORIES:Sonstige, MU15, FU15
CREATED:20220112T163547
SUMMARY:HJP U15
LOCATION:N. N.
DESCRIPTION;ENCODING=QUOTED-PRINTABLE:<p>HJP</p>
DTSTAMP:20260421T163654Z
DTSTART;TZID=Europe/Berlin;VALUE=DATE:20220716
DTEND;TZID=Europe/Berlin;VALUE=DATE:20220718
SEQUENCE:0
TRANSP:OPAQUE
END:VEVENT
END:VCALENDAR