BEGIN:VCALENDAR
VERSION:2.0
PRODID:-//jEvents 2.0 for Joomla//EN
CALSCALE:GREGORIAN
METHOD:PUBLISH
BEGIN:VTIMEZONE
TZID:Europe/Berlin
BEGIN:STANDARD
DTSTART:20211031T020000
RDATE:20220327T030000
TZOFFSETFROM:+0200
TZOFFSETTO:+0100
TZNAME:Europe/Berlin CET
END:STANDARD
BEGIN:STANDARD
DTSTART:20221030T020000
RDATE:20230326T030000
TZOFFSETFROM:+0200
TZOFFSETTO:+0100
TZNAME:Europe/Berlin CET
END:STANDARD
BEGIN:DAYLIGHT
DTSTART:20210624T000000
RDATE:20211031T020000
TZOFFSETFROM:+0100
TZOFFSETTO:+0200
TZNAME:Europe/Berlin CEST
END:DAYLIGHT
BEGIN:DAYLIGHT
DTSTART:20220327T030000
RDATE:20221030T020000
TZOFFSETFROM:+0100
TZOFFSETTO:+0200
TZNAME:Europe/Berlin CEST
END:DAYLIGHT
END:VTIMEZONE
BEGIN:VEVENT
UID:1ccfb9eb782bbefe382c5344030f0f9b
CATEGORIES:Wettkampfsport, MU11, MU13, FU11, FU13
CREATED:20220112T160428
SUMMARY:Mixed U11 MM + U13
LOCATION:N. N.
DESCRIPTION;ENCODING=QUOTED-PRINTABLE:<p>25.06.2022 Mixed U11 MM&nbsp;</p><p>&nbsp;</p><p>26.06.2022 Mixed U13 MM
 </p>
DTSTAMP:20260425T134344Z
DTSTART;TZID=Europe/Berlin;VALUE=DATE:20220625
DTEND;TZID=Europe/Berlin;VALUE=DATE:20220627
SEQUENCE:0
TRANSP:OPAQUE
END:VEVENT
END:VCALENDAR