BEGIN:VCALENDAR
VERSION:2.0
PRODID:-//jEvents 2.0 for Joomla//EN
CALSCALE:GREGORIAN
METHOD:PUBLISH
BEGIN:VTIMEZONE
TZID:Europe/Berlin
BEGIN:STANDARD
DTSTART:20211031T020000
RDATE:20220327T030000
TZOFFSETFROM:+0200
TZOFFSETTO:+0100
TZNAME:Europe/Berlin CET
END:STANDARD
BEGIN:STANDARD
DTSTART:20221030T020000
RDATE:20230326T030000
TZOFFSETFROM:+0200
TZOFFSETTO:+0100
TZNAME:Europe/Berlin CET
END:STANDARD
BEGIN:DAYLIGHT
DTSTART:20210425T000000
RDATE:20211031T020000
TZOFFSETFROM:+0100
TZOFFSETTO:+0200
TZNAME:Europe/Berlin CEST
END:DAYLIGHT
BEGIN:DAYLIGHT
DTSTART:20220327T030000
RDATE:20221030T020000
TZOFFSETFROM:+0100
TZOFFSETTO:+0200
TZNAME:Europe/Berlin CEST
END:DAYLIGHT
END:VTIMEZONE
BEGIN:VEVENT
UID:c96d72f45f751deb81d3f8c29303b4f0
CATEGORIES:Sonstige
CREATED:20220112T155254
SUMMARY:Landesrandori 4 (FFM)
LOCATION:Frankfurt lsbh
DESCRIPTION;ENCODING=QUOTED-PRINTABLE:<p>Landesrandori 4</p>
DTSTAMP:20260420T021514Z
DTSTART;TZID=Europe/Berlin;VALUE=DATE:20220426
DTEND;TZID=Europe/Berlin;VALUE=DATE:20220427
SEQUENCE:0
TRANSP:OPAQUE
END:VEVENT
END:VCALENDAR