BEGIN:VCALENDAR
VERSION:2.0
PRODID:-//jEvents 2.0 for Joomla//EN
CALSCALE:GREGORIAN
METHOD:PUBLISH
BEGIN:VTIMEZONE
TZID:Europe/Berlin
BEGIN:STANDARD
DTSTART:20210214T000000
RDATE:20210328T030000
TZOFFSETFROM:+0200
TZOFFSETTO:+0100
TZNAME:Europe/Berlin CET
END:STANDARD
BEGIN:STANDARD
DTSTART:20211031T020000
RDATE:20220327T030000
TZOFFSETFROM:+0200
TZOFFSETTO:+0100
TZNAME:Europe/Berlin CET
END:STANDARD
BEGIN:STANDARD
DTSTART:20221030T020000
RDATE:20230326T030000
TZOFFSETFROM:+0200
TZOFFSETTO:+0100
TZNAME:Europe/Berlin CET
END:STANDARD
BEGIN:DAYLIGHT
DTSTART:20210328T030000
RDATE:20211031T020000
TZOFFSETFROM:+0100
TZOFFSETTO:+0200
TZNAME:Europe/Berlin CEST
END:DAYLIGHT
BEGIN:DAYLIGHT
DTSTART:20220327T030000
RDATE:20221030T020000
TZOFFSETFROM:+0100
TZOFFSETTO:+0200
TZNAME:Europe/Berlin CEST
END:DAYLIGHT
END:VTIMEZONE
BEGIN:VEVENT
UID:ec36a51f381573868df286f06d07a236
CATEGORIES:MU18, FU18
CREATED:20211221T113506
SUMMARY:Landesrandori 2
LOCATION:Frankfurt lsbh
DESCRIPTION;ENCODING=QUOTED-PRINTABLE:\n\nLandesrandori 2 Frankfurt lsbh\n\n\n18:00-19:30 Technik/Randori U15 / U
 18\n\n\n19:30-21:30 Technik/Randori ab U18\n
DTSTAMP:20260422T121047Z
DTSTART;TZID=Europe/Berlin;VALUE=DATE:20220215
DTEND;TZID=Europe/Berlin;VALUE=DATE:20220216
SEQUENCE:0
TRANSP:OPAQUE
END:VEVENT
END:VCALENDAR