BEGIN:VCALENDAR
VERSION:2.0
PRODID:-//jEvents 2.0 for Joomla//EN
CALSCALE:GREGORIAN
METHOD:PUBLISH
BEGIN:VTIMEZONE
TZID:Europe/Berlin
BEGIN:STANDARD
DTSTART:20210205T000000
RDATE:20210328T030000
TZOFFSETFROM:+0200
TZOFFSETTO:+0100
TZNAME:Europe/Berlin CET
END:STANDARD
BEGIN:STANDARD
DTSTART:20211031T020000
RDATE:20220327T030000
TZOFFSETFROM:+0200
TZOFFSETTO:+0100
TZNAME:Europe/Berlin CET
END:STANDARD
BEGIN:STANDARD
DTSTART:20221030T020000
RDATE:20230326T030000
TZOFFSETFROM:+0200
TZOFFSETTO:+0100
TZNAME:Europe/Berlin CET
END:STANDARD
BEGIN:DAYLIGHT
DTSTART:20210328T030000
RDATE:20211031T020000
TZOFFSETFROM:+0100
TZOFFSETTO:+0200
TZNAME:Europe/Berlin CEST
END:DAYLIGHT
BEGIN:DAYLIGHT
DTSTART:20220327T030000
RDATE:20221030T020000
TZOFFSETFROM:+0100
TZOFFSETTO:+0200
TZNAME:Europe/Berlin CEST
END:DAYLIGHT
END:VTIMEZONE
BEGIN:VEVENT
UID:d394a6d0ddaab2fa48f5c66bc2f11de1
CATEGORIES:Wettkampfsport, MU21, FU21
CREATED:20211221T112753
SUMMARY:Wird verschoben! HEM U21 
LOCATION:N. N.
DESCRIPTION;ENCODING=QUOTED-PRINTABLE:<p>HEM U21 wird auf einen späteren Zeitpunkt verschoben!</p>
DTSTAMP:20260420T075623Z
DTSTART;TZID=Europe/Berlin;VALUE=DATE:20220206
DTEND;TZID=Europe/Berlin;VALUE=DATE:20220207
SEQUENCE:0
TRANSP:OPAQUE
END:VEVENT
END:VCALENDAR